BEGIN:VCALENDAR
PRODID:-//Southern Appalachian Brewery//NONSGML v1.0//EN
VERSION:2.0
CALSCALE:GREGORIAN
METHOD:PUBLISH
X-WR-CALNAME:Southern Appalachian Brewery
X-ORIGINAL-URL:https://www.sabrewery.com
X-WR-CALDESC:Events for Southern Appalachian Brewery
X-WR-TIMEZONE:America/New_York
BEGIN:VEVENT
DTSTART:20211205
DTEND:20211206
DTSTAMP:20260423T205757
CREATED:20211201T165302
LAST-MODIFIED:20211201T165302
UID:9632@https://www.sabrewery.com
SUMMARY:Daddy D's on Wheels Food Truck
DESCRIPTION:  Hendersonville’s own Daddy D’s is now bringing their delicious soul food on the road!  Daddy-Ds-On-Wheels
LOCATION:822 Locust St., Ste 100
URL:https://www.sabrewery.com/event/daddy-ds-on-wheels-food-truck-4/
END:VEVENT
END:VCALENDAR