BEGIN:VCALENDAR
PRODID:-//Southern Appalachian Brewery//NONSGML v1.0//EN
VERSION:2.0
CALSCALE:GREGORIAN
METHOD:PUBLISH
X-WR-CALNAME:Southern Appalachian Brewery
X-ORIGINAL-URL:https://www.sabrewery.com
X-WR-CALDESC:Events for Southern Appalachian Brewery
X-WR-TIMEZONE:America/New_York
BEGIN:VEVENT
DTSTART:20190524
DTEND:20190525
DTSTAMP:20260421T041902
CREATED:20190504T160810
LAST-MODIFIED:20190504T160810
UID:6794@https://www.sabrewery.com
SUMMARY:Olive Food Truck
DESCRIPTION:  A boutique food truck serving up gourmet comfort food.  www.olivecateringcompany.com
LOCATION:822 Locust St., Ste 100
URL:https://www.sabrewery.com/event/olive-food-truck-155/
END:VEVENT
END:VCALENDAR