BEGIN:VCALENDAR
PRODID:-//Southern Appalachian Brewery//NONSGML v1.0//EN
VERSION:2.0
CALSCALE:GREGORIAN
METHOD:PUBLISH
X-WR-CALNAME:Southern Appalachian Brewery
X-ORIGINAL-URL:https://www.sabrewery.com
X-WR-CALDESC:Events for Southern Appalachian Brewery
X-WR-TIMEZONE:America/New_York
BEGIN:VEVENT
DTSTART:20230226
DTEND:20230227
DTSTAMP:20260423T231703
CREATED:20230114T211541
LAST-MODIFIED:20230114T211541
UID:10958@https://www.sabrewery.com
SUMMARY:Open 2 - 7pm on Sundays
DESCRIPTION:
LOCATION:
URL:https://www.sabrewery.com/event/open-2-7pm-on-sundays-29/
END:VEVENT
END:VCALENDAR