BEGIN:VCALENDAR
PRODID:-//Southern Appalachian Brewery//NONSGML v1.0//EN
VERSION:2.0
CALSCALE:GREGORIAN
METHOD:PUBLISH
X-WR-CALNAME:Southern Appalachian Brewery
X-ORIGINAL-URL:https://www.sabrewery.com
X-WR-CALDESC:Events for Southern Appalachian Brewery
X-WR-TIMEZONE:America/New_York
BEGIN:VEVENT
DTSTART:20220730
DTEND:20220731
DTSTAMP:20260421T041349
CREATED:20220618T164051
LAST-MODIFIED:20220618T164051
UID:10247@https://www.sabrewery.com
SUMMARY:Open 2-9:30pm on Saturdays
DESCRIPTION:
LOCATION:
URL:https://www.sabrewery.com/event/open-2-930pm-on-saturdays-16/
END:VEVENT
END:VCALENDAR