BEGIN:VCALENDAR
PRODID:-//Southern Appalachian Brewery//NONSGML v1.0//EN
VERSION:2.0
CALSCALE:GREGORIAN
METHOD:PUBLISH
X-WR-CALNAME:Southern Appalachian Brewery
X-ORIGINAL-URL:https://www.sabrewery.com
X-WR-CALDESC:Events for Southern Appalachian Brewery
X-WR-TIMEZONE:America/New_York
BEGIN:VEVENT
DTSTART:20210807
DTEND:20210808
DTSTAMP:20260423T215538
CREATED:20210717T185548
LAST-MODIFIED:20210717T185548
UID:9215@https://www.sabrewery.com
SUMMARY:Open 2pm till 9:30pm on Saturdays
DESCRIPTION:
LOCATION:
URL:https://www.sabrewery.com/event/open-2pm-till-930pm-on-saturdays-6/
END:VEVENT
END:VCALENDAR