BEGIN:VCALENDAR
PRODID:-//Southern Appalachian Brewery//NONSGML v1.0//EN
VERSION:2.0
CALSCALE:GREGORIAN
METHOD:PUBLISH
X-WR-CALNAME:Southern Appalachian Brewery
X-ORIGINAL-URL:https://www.sabrewery.com
X-WR-CALDESC:Events for Southern Appalachian Brewery
X-WR-TIMEZONE:America/New_York
BEGIN:VEVENT
DTSTART:20191102
DTEND:20191103
DTSTAMP:20260423T215718
CREATED:20191031T114017
LAST-MODIFIED:20191031T114017
UID:7381@https://www.sabrewery.com
SUMMARY:Open at 2 on Saturdays
DESCRIPTION:
LOCATION:
URL:https://www.sabrewery.com/event/open-at-2-on-saturdays-216/
END:VEVENT
END:VCALENDAR