BEGIN:VCALENDAR
PRODID:-//Southern Appalachian Brewery//NONSGML v1.0//EN
VERSION:2.0
CALSCALE:GREGORIAN
METHOD:PUBLISH
X-WR-CALNAME:Southern Appalachian Brewery
X-ORIGINAL-URL:https://www.sabrewery.com
X-WR-CALDESC:Events for Southern Appalachian Brewery
X-WR-TIMEZONE:America/New_York
BEGIN:VEVENT
DTSTART:20220226
DTEND:20220227
DTSTAMP:20260421T074020
CREATED:20220119T184635
LAST-MODIFIED:20220119T190718
UID:9777@https://www.sabrewery.com
SUMMARY:Open at 2pm - 8:30pm on Saturdays
DESCRIPTION:
LOCATION:
URL:https://www.sabrewery.com/event/open-at-2pm-on-saturdays-53/
END:VEVENT
END:VCALENDAR