BEGIN:VCALENDAR
PRODID:-//Southern Appalachian Brewery//NONSGML v1.0//EN
VERSION:2.0
CALSCALE:GREGORIAN
METHOD:PUBLISH
X-WR-CALNAME:Southern Appalachian Brewery
X-ORIGINAL-URL:https://www.sabrewery.com
X-WR-CALDESC:Events for Southern Appalachian Brewery
X-WR-TIMEZONE:America/New_York
BEGIN:VEVENT
DTSTART:20190517
DTEND:20190518
DTSTAMP:20260420T063656
CREATED:20190422T172721
LAST-MODIFIED:20190422T172721
UID:6747@https://www.sabrewery.com
SUMMARY:Open at 4 on Fridays
DESCRIPTION:
LOCATION:
URL:https://www.sabrewery.com/event/open-at-4-on-fridays-219/
END:VEVENT
END:VCALENDAR