BEGIN:VCALENDAR
PRODID:-//Southern Appalachian Brewery//NONSGML v1.0//EN
VERSION:2.0
CALSCALE:GREGORIAN
METHOD:PUBLISH
X-WR-CALNAME:Southern Appalachian Brewery
X-ORIGINAL-URL:https://www.sabrewery.com
X-WR-CALDESC:Events for Southern Appalachian Brewery
X-WR-TIMEZONE:America/New_York
BEGIN:VEVENT
DTSTART:20200213
DTEND:20200214
DTSTAMP:20260420T032447
CREATED:20200126T110822
LAST-MODIFIED:20200126T110822
UID:7691@https://www.sabrewery.com
SUMMARY:Open at 4pm on Thursdays
DESCRIPTION:
LOCATION:
URL:https://www.sabrewery.com/event/open-at-4pm-on-thursdays-2/
END:VEVENT
END:VCALENDAR